Package: GENIE3 Version: 1.28.0 Command: /Library/Frameworks/R.framework/Resources/bin/R CMD INSTALL GENIE3 StartedAt: 2025-03-31 15:15:10 -0400 (Mon, 31 Mar 2025) EndedAt: 2025-03-31 15:15:20 -0400 (Mon, 31 Mar 2025) EllapsedTime: 10.0 seconds RetCode: 0 Status: OK