Package: GENESIS Version: 2.36.0 Command: /home/biocbuild/R/R/bin/R CMD INSTALL GENESIS StartedAt: 2025-03-31 20:59:23 -0000 (Mon, 31 Mar 2025) EndedAt: 2025-03-31 20:59:57 -0000 (Mon, 31 Mar 2025) EllapsedTime: 34.2 seconds RetCode: 0 Status: OK