Package: GENESIS Version: 2.36.0 Command: /Library/Frameworks/R.framework/Resources/bin/R CMD INSTALL GENESIS StartedAt: 2025-03-31 16:20:36 -0400 (Mon, 31 Mar 2025) EndedAt: 2025-03-31 16:21:34 -0400 (Mon, 31 Mar 2025) EllapsedTime: 58.0 seconds RetCode: 0 Status: OK