Package: GENESIS Version: 2.36.0 Command: /Library/Frameworks/R.framework/Resources/bin/R CMD build --keep-empty-dirs --no-resave-data GENESIS StartedAt: 2025-03-31 23:58:08 -0400 (Mon, 31 Mar 2025) EndedAt: 2025-04-01 00:00:10 -0400 (Tue, 01 Apr 2025) EllapsedTime: 122.1 seconds RetCode: 0 Status: OK PackageFile: GENESIS_2.36.0.tar.gz PackageFileSize: 3.845 MiB