Package: GEM Version: 1.32.0 Command: /home/biocbuild/R/R/bin/R CMD build --keep-empty-dirs --no-resave-data GEM StartedAt: 2025-03-31 23:38:00 -0000 (Mon, 31 Mar 2025) EndedAt: 2025-03-31 23:38:20 -0000 (Mon, 31 Mar 2025) EllapsedTime: 20.0 seconds RetCode: 0 Status: OK PackageFile: GEM_1.32.0.tar.gz PackageFileSize: 461.3 KiB