Package: GEM Version: 1.32.0 Command: /home/biocbuild/bbs-3.20-bioc/R/bin/R CMD INSTALL GEM StartedAt: 2025-03-31 15:14:04 -0400 (Mon, 31 Mar 2025) EndedAt: 2025-03-31 15:14:11 -0400 (Mon, 31 Mar 2025) EllapsedTime: 6.8 seconds RetCode: 0 Status: OK