Package: GEM Version: 1.32.0 Command: /home/biocbuild/bbs-3.20-bioc/R/bin/R CMD check --install=check:GEM.install-out.txt --library=/home/biocbuild/bbs-3.20-bioc/R/site-library --timings GEM_1.32.0.tar.gz StartedAt: 2025-03-31 22:21:43 -0400 (Mon, 31 Mar 2025) EndedAt: 2025-03-31 22:22:44 -0400 (Mon, 31 Mar 2025) EllapsedTime: 61.1 seconds RetCode: 0 Status: OK CheckDir: GEM.Rcheck Warnings: 0