Package: GDCRNATools Version: 1.26.0 Command: chmod a+r GDCRNATools -R && F:\biocbuild\bbs-3.20-bioc\R\bin\R.exe CMD build --keep-empty-dirs --no-resave-data GDCRNATools StartedAt: 2025-03-31 19:06:34 -0400 (Mon, 31 Mar 2025) EndedAt: 2025-03-31 19:07:50 -0400 (Mon, 31 Mar 2025) EllapsedTime: 76.7 seconds RetCode: 0 Status: OK PackageFile: GDCRNATools_1.26.0.tar.gz PackageFileSize: 5.313 MiB