Package: GDCRNATools Version: 1.26.0 Command: /home/biocbuild/bbs-3.20-bioc/R/bin/R CMD check --install=check:GDCRNATools.install-out.txt --library=/home/biocbuild/bbs-3.20-bioc/R/site-library --timings GDCRNATools_1.26.0.tar.gz StartedAt: 2025-03-31 22:19:22 -0400 (Mon, 31 Mar 2025) EndedAt: 2025-03-31 22:24:56 -0400 (Mon, 31 Mar 2025) EllapsedTime: 334.3 seconds RetCode: 0 Status: OK CheckDir: GDCRNATools.Rcheck Warnings: 0