Package: GBScleanR Version: 2.0.3 Command: /Library/Frameworks/R.framework/Resources/bin/R CMD INSTALL GBScleanR StartedAt: 2025-03-31 15:42:12 -0400 (Mon, 31 Mar 2025) EndedAt: 2025-03-31 15:43:45 -0400 (Mon, 31 Mar 2025) EllapsedTime: 92.9 seconds RetCode: 0 Status: OK