Package: GAprediction Version: 1.32.0 Command: F:\biocbuild\bbs-3.20-bioc\R\bin\R.exe CMD check --no-multiarch --install=check:GAprediction.install-out.txt --library=F:\biocbuild\bbs-3.20-bioc\R\library --no-vignettes --timings GAprediction_1.32.0.tar.gz StartedAt: 2025-04-01 01:42:04 -0400 (Tue, 01 Apr 2025) EndedAt: 2025-04-01 01:43:32 -0400 (Tue, 01 Apr 2025) EllapsedTime: 88.3 seconds RetCode: 0 Status: OK CheckDir: GAprediction.Rcheck Warnings: 0