Package: GAprediction Version: 1.32.0 Command: rm -rf GAprediction.buildbin-libdir && mkdir GAprediction.buildbin-libdir && F:\biocbuild\bbs-3.20-bioc\R\bin\R.exe CMD INSTALL --build --library=GAprediction.buildbin-libdir GAprediction_1.32.0.tar.gz StartedAt: 2025-04-01 08:13:42 -0400 (Tue, 01 Apr 2025) EndedAt: 2025-04-01 08:14:13 -0400 (Tue, 01 Apr 2025) EllapsedTime: 31.6 seconds RetCode: 0 Status: OK PackageFile: GAprediction_1.32.0.zip PackageFileSize: 884.1 KiB