Package: GARS Version: 1.26.0 Command: /home/biocbuild/R/R/bin/R CMD INSTALL GARS StartedAt: 2025-03-31 21:02:46 -0000 (Mon, 31 Mar 2025) EndedAt: 2025-03-31 21:03:56 -0000 (Mon, 31 Mar 2025) EllapsedTime: 69.2 seconds RetCode: 0 Status: OK