Package: GARS Version: 1.26.0 Command: /home/biocbuild/R/R/bin/R CMD build --keep-empty-dirs --no-resave-data GARS StartedAt: 2025-03-31 23:35:58 -0000 (Mon, 31 Mar 2025) EndedAt: 2025-03-31 23:38:17 -0000 (Mon, 31 Mar 2025) EllapsedTime: 139.1 seconds RetCode: 0 Status: OK PackageFile: GARS_1.26.0.tar.gz PackageFileSize: 428.9 KiB