Package: GARS Version: 1.26.0 Command: /Library/Frameworks/R.framework/Resources/bin/R CMD check --install=check:GARS.install-out.txt --library=/Library/Frameworks/R.framework/Resources/library --no-vignettes --timings GARS_1.26.0.tar.gz StartedAt: 2025-04-01 03:14:44 -0400 (Tue, 01 Apr 2025) EndedAt: 2025-04-01 03:28:10 -0400 (Tue, 01 Apr 2025) EllapsedTime: 806.2 seconds RetCode: 0 Status: OK CheckDir: GARS.Rcheck Warnings: 0