Package: GARS Version: 1.26.0 Command: /Library/Frameworks/R.framework/Resources/bin/R CMD build --keep-empty-dirs --no-resave-data GARS StartedAt: 2025-03-31 23:45:19 -0400 (Mon, 31 Mar 2025) EndedAt: 2025-03-31 23:47:37 -0400 (Mon, 31 Mar 2025) EllapsedTime: 138.9 seconds RetCode: 0 Status: OK PackageFile: GARS_1.26.0.tar.gz PackageFileSize: 438.3 KiB