Package: GA4GHshiny Version: 1.28.0 Command: /home/biocbuild/R/R/bin/R CMD INSTALL GA4GHshiny StartedAt: 2025-03-31 21:06:47 -0000 (Mon, 31 Mar 2025) EndedAt: 2025-03-31 21:07:42 -0000 (Mon, 31 Mar 2025) EllapsedTime: 55.0 seconds RetCode: 0 Status: OK