Package: GA4GHshiny Version: 1.28.0 Command: /home/biocbuild/R/R/bin/R CMD build --keep-empty-dirs --no-resave-data GA4GHshiny StartedAt: 2025-03-31 23:35:24 -0000 (Mon, 31 Mar 2025) EndedAt: 2025-03-31 23:36:17 -0000 (Mon, 31 Mar 2025) EllapsedTime: 53.0 seconds RetCode: 0 Status: OK PackageFile: GA4GHshiny_1.28.0.tar.gz PackageFileSize: 365.1 KiB