Package: GA4GHshiny Version: 1.28.0 Command: chmod a+r GA4GHshiny -R && F:\biocbuild\bbs-3.20-bioc\R\bin\R.exe CMD build --keep-empty-dirs --no-resave-data GA4GHshiny StartedAt: 2025-03-31 19:05:03 -0400 (Mon, 31 Mar 2025) EndedAt: 2025-03-31 19:05:52 -0400 (Mon, 31 Mar 2025) EllapsedTime: 48.7 seconds RetCode: 0 Status: OK PackageFile: GA4GHshiny_1.28.0.tar.gz PackageFileSize: 298.8 KiB