Package: GA4GHshiny Version: 1.28.0 Command: /Library/Frameworks/R.framework/Resources/bin/R CMD check --install=check:GA4GHshiny.install-out.txt --library=/Library/Frameworks/R.framework/Resources/library --no-vignettes --timings GA4GHshiny_1.28.0.tar.gz StartedAt: 2025-04-01 03:12:52 -0400 (Tue, 01 Apr 2025) EndedAt: 2025-04-01 03:22:03 -0400 (Tue, 01 Apr 2025) EllapsedTime: 551.4 seconds RetCode: 0 Status: OK CheckDir: GA4GHshiny.Rcheck Warnings: 0