Package: GA4GHshiny Version: 1.28.0 Command: /Library/Frameworks/R.framework/Resources/bin/R CMD check --install=check:GA4GHshiny.install-out.txt --library=/Library/Frameworks/R.framework/Resources/library --no-vignettes --timings GA4GHshiny_1.28.0.tar.gz StartedAt: 2025-04-01 19:39:13 -0400 (Tue, 01 Apr 2025) EndedAt: 2025-04-01 19:44:22 -0400 (Tue, 01 Apr 2025) EllapsedTime: 309.5 seconds RetCode: 0 Status: OK CheckDir: GA4GHshiny.Rcheck Warnings: 0