Package: GA4GHclient Version: 1.30.0 Command: /home/biocbuild/R/R/bin/R CMD INSTALL GA4GHclient StartedAt: 2025-03-31 20:34:18 -0000 (Mon, 31 Mar 2025) EndedAt: 2025-03-31 20:35:07 -0000 (Mon, 31 Mar 2025) EllapsedTime: 49.1 seconds RetCode: 0 Status: OK