Package: GA4GHclient Version: 1.30.0 Command: /Library/Frameworks/R.framework/Resources/bin/R CMD INSTALL GA4GHclient StartedAt: 2025-03-31 16:05:01 -0400 (Mon, 31 Mar 2025) EndedAt: 2025-03-31 16:05:48 -0400 (Mon, 31 Mar 2025) EllapsedTime: 46.4 seconds RetCode: 0 Status: OK