Package: GA4GHclient Version: 1.30.0 Command: /Library/Frameworks/R.framework/Resources/bin/R CMD build --keep-empty-dirs --no-resave-data GA4GHclient StartedAt: 2025-03-31 23:43:26 -0400 (Mon, 31 Mar 2025) EndedAt: 2025-03-31 23:45:03 -0400 (Mon, 31 Mar 2025) EllapsedTime: 97.0 seconds RetCode: 0 Status: OK PackageFile: GA4GHclient_1.30.0.tar.gz PackageFileSize: 637.4 KiB