Package: FuseSOM Version: 1.8.0 Command: /Library/Frameworks/R.framework/Resources/bin/R CMD INSTALL FuseSOM StartedAt: 2025-03-31 18:07:29 -0400 (Mon, 31 Mar 2025) EndedAt: 2025-03-31 18:07:59 -0400 (Mon, 31 Mar 2025) EllapsedTime: 29.7 seconds RetCode: 0 Status: OK