Package: FlowSOM Version: 2.14.0 Command: /home/biocbuild/R/R/bin/R CMD check --install=check:FlowSOM.install-out.txt --library=/home/biocbuild/R/R/site-library --no-vignettes --timings FlowSOM_2.14.0.tar.gz StartedAt: 2025-04-01 06:34:43 -0000 (Tue, 01 Apr 2025) EndedAt: 2025-04-01 06:45:23 -0000 (Tue, 01 Apr 2025) EllapsedTime: 639.6 seconds RetCode: 0 Status: OK CheckDir: FlowSOM.Rcheck Warnings: 0