Package: FlowSOM Version: 2.14.0 Command: F:\biocbuild\bbs-3.20-bioc\R\bin\R.exe CMD INSTALL FlowSOM StartedAt: 2025-03-31 17:01:23 -0400 (Mon, 31 Mar 2025) EndedAt: 2025-03-31 17:02:04 -0400 (Mon, 31 Mar 2025) EllapsedTime: 41.8 seconds RetCode: 0 Status: OK