Package: FlowSOM Version: 2.14.0 Command: chmod a+r FlowSOM -R && F:\biocbuild\bbs-3.20-bioc\R\bin\R.exe CMD build --keep-empty-dirs --no-resave-data FlowSOM StartedAt: 2025-03-31 19:01:53 -0400 (Mon, 31 Mar 2025) EndedAt: 2025-03-31 19:03:39 -0400 (Mon, 31 Mar 2025) EllapsedTime: 105.6 seconds RetCode: 0 Status: OK PackageFile: FlowSOM_2.14.0.tar.gz PackageFileSize: 4.904 MiB