Package: FlowSOM Version: 2.14.0 Command: rm -rf FlowSOM.buildbin-libdir && mkdir FlowSOM.buildbin-libdir && F:\biocbuild\bbs-3.20-bioc\R\bin\R.exe CMD INSTALL --build --library=FlowSOM.buildbin-libdir FlowSOM_2.14.0.tar.gz StartedAt: 2025-04-01 08:12:54 -0400 (Tue, 01 Apr 2025) EndedAt: 2025-04-01 08:13:47 -0400 (Tue, 01 Apr 2025) EllapsedTime: 53.1 seconds RetCode: 0 Status: OK PackageFile: FlowSOM_2.14.0.zip PackageFileSize: 5.227 MiB