Package: FlowSOM Version: 2.14.0 Command: rm -rf FlowSOM.buildbin-libdir && mkdir FlowSOM.buildbin-libdir && /Users/biocbuild/BBS/utils/build-universal.sh FlowSOM_2.14.0.tar.gz /Library/Frameworks/R.framework/Resources/bin/R FlowSOM.buildbin-libdir StartedAt: 2025-04-01 11:53:49 -0400 (Tue, 01 Apr 2025) EndedAt: 2025-04-01 11:54:24 -0400 (Tue, 01 Apr 2025) EllapsedTime: 35.1 seconds RetCode: 0 Status: OK PackageFile: FlowSOM_2.14.0.tgz PackageFileSize: 5.24 MiB