Package: FlowSOM Version: 2.14.0 Command: rm -rf FlowSOM.buildbin-libdir && mkdir FlowSOM.buildbin-libdir && /Users/biocbuild/BBS/utils/build-universal.sh FlowSOM_2.14.0.tar.gz /Library/Frameworks/R.framework/Resources/bin/R FlowSOM.buildbin-libdir StartedAt: 2025-04-02 14:23:24 -0400 (Wed, 02 Apr 2025) EndedAt: 2025-04-02 14:23:42 -0400 (Wed, 02 Apr 2025) EllapsedTime: 18.0 seconds RetCode: 0 Status: OK PackageFile: FlowSOM_2.14.0.tgz PackageFileSize: 5.215 MiB