Package: FitHiC Version: 1.32.0 Command: chmod a+r FitHiC -R && F:\biocbuild\bbs-3.20-bioc\R\bin\R.exe CMD build --keep-empty-dirs --no-resave-data FitHiC StartedAt: 2025-03-31 18:57:28 -0400 (Mon, 31 Mar 2025) EndedAt: 2025-03-31 19:04:14 -0400 (Mon, 31 Mar 2025) EllapsedTime: 406.6 seconds RetCode: 0 Status: OK PackageFile: FitHiC_1.32.0.tar.gz PackageFileSize: 27.05 MiB