Package: FitHiC Version: 1.32.0 Command: /Library/Frameworks/R.framework/Resources/bin/R CMD INSTALL FitHiC StartedAt: 2025-03-31 15:05:45 -0400 (Mon, 31 Mar 2025) EndedAt: 2025-03-31 15:06:27 -0400 (Mon, 31 Mar 2025) EllapsedTime: 42.0 seconds RetCode: 0 Status: OK