Package: FitHiC Version: 1.32.0 Command: /Library/Frameworks/R.framework/Resources/bin/R CMD check --install=check:FitHiC.install-out.txt --library=/Library/Frameworks/R.framework/Resources/library --no-vignettes --timings FitHiC_1.32.0.tar.gz StartedAt: 2025-04-01 03:03:08 -0400 (Tue, 01 Apr 2025) EndedAt: 2025-04-01 03:07:37 -0400 (Tue, 01 Apr 2025) EllapsedTime: 268.9 seconds RetCode: 0 Status: OK CheckDir: FitHiC.Rcheck Warnings: 0