Package: FeatSeekR Version: 1.6.0 Command: /Library/Frameworks/R.framework/Resources/bin/R CMD INSTALL FeatSeekR StartedAt: 2025-03-31 15:40:32 -0400 (Mon, 31 Mar 2025) EndedAt: 2025-03-31 15:40:56 -0400 (Mon, 31 Mar 2025) EllapsedTime: 23.4 seconds RetCode: 0 Status: OK