Package: FeatSeekR Version: 1.6.0 Command: /Library/Frameworks/R.framework/Resources/bin/R CMD build --keep-empty-dirs --no-resave-data FeatSeekR StartedAt: 2025-03-31 23:28:25 -0400 (Mon, 31 Mar 2025) EndedAt: 2025-03-31 23:29:58 -0400 (Mon, 31 Mar 2025) EllapsedTime: 93.3 seconds RetCode: 0 Status: OK PackageFile: FeatSeekR_1.6.0.tar.gz PackageFileSize: 620.2 KiB