Package: FeatSeekR Version: 1.6.0 Command: rm -rf FeatSeekR.buildbin-libdir && mkdir FeatSeekR.buildbin-libdir && /Users/biocbuild/BBS/utils/build-universal.sh FeatSeekR_1.6.0.tar.gz /Library/Frameworks/R.framework/Resources/bin/R FeatSeekR.buildbin-libdir StartedAt: 2025-04-02 14:20:44 -0400 (Wed, 02 Apr 2025) EndedAt: 2025-04-02 14:21:11 -0400 (Wed, 02 Apr 2025) EllapsedTime: 27.1 seconds RetCode: 0 Status: OK PackageFile: FeatSeekR_1.6.0.tgz PackageFileSize: 649.8 KiB