Package: FastqCleaner Version: 1.24.0 Command: F:\biocbuild\bbs-3.20-bioc\R\bin\R.exe CMD check --no-multiarch --install=check:FastqCleaner.install-out.txt --library=F:\biocbuild\bbs-3.20-bioc\R\library --no-vignettes --timings FastqCleaner_1.24.0.tar.gz StartedAt: 2025-04-01 01:30:18 -0400 (Tue, 01 Apr 2025) EndedAt: 2025-04-01 01:34:42 -0400 (Tue, 01 Apr 2025) EllapsedTime: 263.7 seconds RetCode: 0 Status: OK CheckDir: FastqCleaner.Rcheck Warnings: 0