Package: FamAgg Version: 1.34.0 Command: /home/biocbuild/R/R/bin/R CMD INSTALL FamAgg StartedAt: 2025-03-31 21:01:10 -0000 (Mon, 31 Mar 2025) EndedAt: 2025-03-31 21:01:27 -0000 (Mon, 31 Mar 2025) EllapsedTime: 17.0 seconds RetCode: 0 Status: OK