Package: FamAgg Version: 1.34.0 Command: rm -rf FamAgg.buildbin-libdir && mkdir FamAgg.buildbin-libdir && F:\biocbuild\bbs-3.20-bioc\R\bin\R.exe CMD INSTALL --build --library=FamAgg.buildbin-libdir FamAgg_1.34.0.tar.gz StartedAt: 2025-04-01 08:11:12 -0400 (Tue, 01 Apr 2025) EndedAt: 2025-04-01 08:12:28 -0400 (Tue, 01 Apr 2025) EllapsedTime: 76.0 seconds RetCode: 0 Status: OK PackageFile: FamAgg_1.34.0.zip PackageFileSize: 1.416 MiB