Package: FamAgg Version: 1.34.0 Command: /Library/Frameworks/R.framework/Resources/bin/R CMD build --keep-empty-dirs --no-resave-data FamAgg StartedAt: 2025-03-31 23:24:56 -0400 (Mon, 31 Mar 2025) EndedAt: 2025-03-31 23:26:08 -0400 (Mon, 31 Mar 2025) EllapsedTime: 71.6 seconds RetCode: 0 Status: OK PackageFile: FamAgg_1.34.0.tar.gz PackageFileSize: 1.648 MiB