Package: FRGEpistasis Version: 1.42.0 Command: /home/biocbuild/R/R/bin/R CMD INSTALL FRGEpistasis StartedAt: 2025-03-31 21:11:41 -0000 (Mon, 31 Mar 2025) EndedAt: 2025-03-31 21:11:49 -0000 (Mon, 31 Mar 2025) EllapsedTime: 8.0 seconds RetCode: 0 Status: OK