Package: FRGEpistasis Version: 1.42.0 Command: /home/biocbuild/R/R/bin/R CMD check --install=check:FRGEpistasis.install-out.txt --library=/home/biocbuild/R/R/site-library --no-vignettes --timings FRGEpistasis_1.42.0.tar.gz StartedAt: 2025-04-01 06:36:19 -0000 (Tue, 01 Apr 2025) EndedAt: 2025-04-01 06:38:38 -0000 (Tue, 01 Apr 2025) EllapsedTime: 138.1 seconds RetCode: 0 Status: OK CheckDir: FRGEpistasis.Rcheck Warnings: 0