Package: FRGEpistasis Version: 1.42.0 Command: rm -rf FRGEpistasis.buildbin-libdir && mkdir FRGEpistasis.buildbin-libdir && F:\biocbuild\bbs-3.20-bioc\R\bin\R.exe CMD INSTALL --build --library=FRGEpistasis.buildbin-libdir FRGEpistasis_1.42.0.tar.gz StartedAt: 2025-04-01 08:13:21 -0400 (Tue, 01 Apr 2025) EndedAt: 2025-04-01 08:13:50 -0400 (Tue, 01 Apr 2025) EllapsedTime: 28.1 seconds RetCode: 0 Status: OK PackageFile: FRGEpistasis_1.42.0.zip PackageFileSize: 297.5 KiB