Package: FRGEpistasis Version: 1.42.0 Command: /Library/Frameworks/R.framework/Resources/bin/R CMD build --keep-empty-dirs --no-resave-data FRGEpistasis StartedAt: 2025-03-31 23:42:45 -0400 (Mon, 31 Mar 2025) EndedAt: 2025-03-31 23:43:03 -0400 (Mon, 31 Mar 2025) EllapsedTime: 18.1 seconds RetCode: 0 Status: OK PackageFile: FRGEpistasis_1.42.0.tar.gz PackageFileSize: 314.8 KiB