Package: FRASER Version: 2.2.0 Command: /Library/Frameworks/R.framework/Resources/bin/R CMD check --install=check:FRASER.install-out.txt --library=/Library/Frameworks/R.framework/Resources/library --no-vignettes --timings FRASER_2.2.0.tar.gz StartedAt: 2025-04-01 19:34:40 -0400 (Tue, 01 Apr 2025) EndedAt: 2025-04-01 19:51:19 -0400 (Tue, 01 Apr 2025) EllapsedTime: 998.5 seconds RetCode: 0 Status: OK CheckDir: FRASER.Rcheck Warnings: 0