Package: FISHalyseR Version: 1.40.0 Command: /home/biocbuild/R/R/bin/R CMD INSTALL FISHalyseR StartedAt: 2025-03-31 20:50:02 -0000 (Mon, 31 Mar 2025) EndedAt: 2025-03-31 20:50:08 -0000 (Mon, 31 Mar 2025) EllapsedTime: 5.5 seconds RetCode: 0 Status: OK