Package: FISHalyseR Version: 1.40.0 Command: /home/biocbuild/R/R/bin/R CMD build --keep-empty-dirs --no-resave-data FISHalyseR StartedAt: 2025-03-31 23:30:25 -0000 (Mon, 31 Mar 2025) EndedAt: 2025-03-31 23:30:45 -0000 (Mon, 31 Mar 2025) EllapsedTime: 20.0 seconds RetCode: 0 Status: OK PackageFile: FISHalyseR_1.40.0.tar.gz PackageFileSize: 778.6 KiB