Package: FISHalyseR Version: 1.40.0 Command: chmod a+r FISHalyseR -R && F:\biocbuild\bbs-3.20-bioc\R\bin\R.exe CMD build --keep-empty-dirs --no-resave-data FISHalyseR StartedAt: 2025-03-31 18:57:06 -0400 (Mon, 31 Mar 2025) EndedAt: 2025-03-31 19:04:18 -0400 (Mon, 31 Mar 2025) EllapsedTime: 431.8 seconds RetCode: 0 Status: OK PackageFile: FISHalyseR_1.40.0.tar.gz PackageFileSize: 782.7 KiB