Package: FISHalyseR Version: 1.40.0 Command: /home/biocbuild/bbs-3.20-bioc/R/bin/R CMD INSTALL FISHalyseR StartedAt: 2025-03-31 15:41:26 -0400 (Mon, 31 Mar 2025) EndedAt: 2025-03-31 15:41:30 -0400 (Mon, 31 Mar 2025) EllapsedTime: 4.3 seconds RetCode: 0 Status: OK